BEGIN:VCALENDAR
VERSION:2.0
PRODID:-//Oijens Dorpsjournaal - ECPv6.15.20//NONSGML v1.0//EN
CALSCALE:GREGORIAN
METHOD:PUBLISH
X-WR-CALNAME:Oijens Dorpsjournaal
X-ORIGINAL-URL:https://dorpsjournaaloijen.nl
X-WR-CALDESC:Evenementen voor Oijens Dorpsjournaal
REFRESH-INTERVAL;VALUE=DURATION:PT1H
X-Robots-Tag:noindex
X-PUBLISHED-TTL:PT1H
BEGIN:VTIMEZONE
TZID:Europe/Amsterdam
BEGIN:DAYLIGHT
TZOFFSETFROM:+0100
TZOFFSETTO:+0200
TZNAME:CEST
DTSTART:20250330T010000
END:DAYLIGHT
BEGIN:STANDARD
TZOFFSETFROM:+0200
TZOFFSETTO:+0100
TZNAME:CET
DTSTART:20251026T010000
END:STANDARD
BEGIN:DAYLIGHT
TZOFFSETFROM:+0100
TZOFFSETTO:+0200
TZNAME:CEST
DTSTART:20260329T010000
END:DAYLIGHT
BEGIN:STANDARD
TZOFFSETFROM:+0200
TZOFFSETTO:+0100
TZNAME:CET
DTSTART:20261025T010000
END:STANDARD
BEGIN:DAYLIGHT
TZOFFSETFROM:+0100
TZOFFSETTO:+0200
TZNAME:CEST
DTSTART:20270328T010000
END:DAYLIGHT
BEGIN:STANDARD
TZOFFSETFROM:+0200
TZOFFSETTO:+0100
TZNAME:CET
DTSTART:20271031T010000
END:STANDARD
END:VTIMEZONE
BEGIN:VEVENT
DTSTART;TZID=Europe/Amsterdam:20260420T193000
DTEND;TZID=Europe/Amsterdam:20260420T193000
DTSTAMP:20260420T013739
CREATED:20260410T175925Z
LAST-MODIFIED:20260410T175931Z
UID:6364-1776713400-1776713400@dorpsjournaaloijen.nl
SUMMARY:Lezing ter gelegenheid van 50-jarig jubileum
DESCRIPTION:Een korte inleiding deze keer voor een bijzondere avond\nOp 20 april 2026 verzorgt Heemkundekring Maasdorpen Lith in MFA DE Snoeck\, Marktplein 24 Lith\, een verrassende lezing ter gelegenheid van ons 50-jarig jubileum. De lezing begint om 20.00 uur\, de zaal is open vanaf 19.30 u en u wordt tussen 19.30 en 19.50 uur ontvangen. Iedereen is welkom\, ook niet leden. \n			\n			\n				\n				\n				\n				\n			\n				\n				\n				\n				\n				\n				\n				\n				\n				\n				\n				\n			\n			\n				\n				\n				\n				\n				\n				\n				\n				\n				\n				We struinen door 50 jaar geschiedenis van onze Heemkundekring en halen met u leuke anekdotes op. Deze anekdotes worden verzameld. Daarvan worden er enkele in onze speciale Maaskroniek 50-jaar Heemkundekring opgenomen. Deze avond staat in het teken van diverse verrassingen.
URL:https://dorpsjournaaloijen.nl/evenement/lezing-ter-gelegenheid-van-50-jarig-jubileum/
LOCATION:De Snoeck\, Marktplein 24\, Lith\, 5397 EW
ATTACH;FMTTYPE=image/jpeg:https://dorpsjournaaloijen.nl/wp-content/uploads/Heemkundekring-Maasdorpen-Lith-logo.jpg
ORGANIZER;CN="Heemkundekring Maasdorpen Lith":MAILTO:secretariaat@heemkundekringlith.nl
END:VEVENT
END:VCALENDAR