BEGIN:VCALENDAR
VERSION:2.0
PRODID:-//Oijens Dorpsjournaal - ECPv6.15.20//NONSGML v1.0//EN
CALSCALE:GREGORIAN
METHOD:PUBLISH
X-WR-CALNAME:Oijens Dorpsjournaal
X-ORIGINAL-URL:https://dorpsjournaaloijen.nl
X-WR-CALDESC:Evenementen voor Oijens Dorpsjournaal
REFRESH-INTERVAL;VALUE=DURATION:PT1H
X-Robots-Tag:noindex
X-PUBLISHED-TTL:PT1H
BEGIN:VTIMEZONE
TZID:Europe/Amsterdam
BEGIN:DAYLIGHT
TZOFFSETFROM:+0100
TZOFFSETTO:+0200
TZNAME:CEST
DTSTART:20250330T010000
END:DAYLIGHT
BEGIN:STANDARD
TZOFFSETFROM:+0200
TZOFFSETTO:+0100
TZNAME:CET
DTSTART:20251026T010000
END:STANDARD
BEGIN:DAYLIGHT
TZOFFSETFROM:+0100
TZOFFSETTO:+0200
TZNAME:CEST
DTSTART:20260329T010000
END:DAYLIGHT
BEGIN:STANDARD
TZOFFSETFROM:+0200
TZOFFSETTO:+0100
TZNAME:CET
DTSTART:20261025T010000
END:STANDARD
BEGIN:DAYLIGHT
TZOFFSETFROM:+0100
TZOFFSETTO:+0200
TZNAME:CEST
DTSTART:20270328T010000
END:DAYLIGHT
BEGIN:STANDARD
TZOFFSETFROM:+0200
TZOFFSETTO:+0100
TZNAME:CET
DTSTART:20271031T010000
END:STANDARD
END:VTIMEZONE
BEGIN:VEVENT
DTSTART;TZID=Europe/Amsterdam:20260422T133000
DTEND;TZID=Europe/Amsterdam:20260422T160000
DTSTAMP:20260422T115320
CREATED:20260122T205955Z
LAST-MODIFIED:20260122T210001Z
UID:5342-1776864600-1776873600@dorpsjournaaloijen.nl
SUMMARY:Kaartclub in ’t Hart van Oijen
DESCRIPTION:Kaartclub in ’t Hart van Oijen\nIn de Huiskamer van ‘t Hart van Oijen is iedereen van 55 jaar en ouder\, van harte welkom om gezellig een kaartje te leggen.De kaartclub in ‘t Hart van Oijen is er voor inwoners uit Oijen die het leuk vinden om samen te kaarten. \nIedere week op de woensdagmiddag van 13.30 tot 16.00 uur zijn wij in de Huiskamer. \nAan deelname zijn geen kosten verbonden. Alleen voor een drankje wordt een kleine bijdrage gevraagd: \n\nKoffie of thee: € 0\,90 (halve munt – paars)\nOverige consumpties: € 1\,80 (hele munt – blauw)De benodigde munten zijn in ‘t Hart verkrijgbaar.\n\nEr is ruimte om te jokeren en te rikken. Heeft u zelf een voorkeur voor een ander kaartspel? Laat het weten! Wij denken graag met u mee.Tijdens de kaartmiddagen kunt u altijd even binnenlopen om kennis te maken\, de sfeer te proeven of gewoon een kijkje te nemen. Nieuwe deelnemers zijn van harte welkom. \nMeer weten? Neem contact op met de coördinatoren Willie Gielis en Tonnie Hoefnagel  (06–42310805) Of mail naar trefpuntoijen@gmail.com
URL:https://dorpsjournaaloijen.nl/evenement/kaartclub-in-t-hart-van-oijen-16/
LOCATION:MFA ’t Hart van Oijen\, Oijen
ATTACH;FMTTYPE=image/jpeg:https://dorpsjournaaloijen.nl/wp-content/uploads/Kaartclub-Oijen-3.jpg
ORGANIZER;CN="'t Trefpunt Oijen":MAILTO:trefpuntoijen@gmail.com
END:VEVENT
BEGIN:VEVENT
DTSTART;TZID=Europe/Amsterdam:20260422T140000
DTEND;TZID=Europe/Amsterdam:20260422T160000
DTSTAMP:20260422T115320
CREATED:20260122T215155Z
LAST-MODIFIED:20260302T191254Z
UID:5414-1776866400-1776873600@dorpsjournaaloijen.nl
SUMMARY:Crea Café – Tekenen en Schilderen - 22 april 2026
DESCRIPTION:Crea Café – Tekenen en Schilderen\nNa een eerste start voor de zomer\, gaat het Trefpunt verder met het Crea Café. Naast het handwerken\, breiden we uit naar tekenen/schilderen met begeleiding van Rianne van Teeffelen. \nLessen\nNa al dat tekengedoe\, inkt\, potlood\, houtskool etc zijn we nu aan het schilderen gegaan. \nAan het einde van de middag bekijken we de diverse werken en worden deze besproken zodat iedereen wat van op zal steken door naar elkaars werk te kijken. \nWanneer: woensdag 22 april 14:00-16:00  \nWaar: Huiskamer (MFA ’t Hart van Oijen) \nKosten: geen\, consumpties voor eigen rekening zijn.(Koffie/thee €0\,90\, Fris €1\,80 met muntjes betalen) \nVoor informatie: mail naar Trefpunt trefpuntoijen@gmail.com
URL:https://dorpsjournaaloijen.nl/evenement/crea-cafe-tekenen-en-schilderen-22-april-2026/
LOCATION:MFA ’t Hart van Oijen\, Oijen
ATTACH;FMTTYPE=image/jpeg:https://dorpsjournaaloijen.nl/wp-content/uploads/Het-Trefpunt-9-25.jpg
ORGANIZER;CN="'t Trefpunt Oijen":MAILTO:trefpuntoijen@gmail.com
END:VEVENT
END:VCALENDAR